BEGIN:VCALENDAR
VERSION:2.0
PRODID:-//Združenje borcev NOB Kamnik - ECPv6.15.20//NONSGML v1.0//EN
CALSCALE:GREGORIAN
METHOD:PUBLISH
X-WR-CALNAME:Združenje borcev NOB Kamnik
X-ORIGINAL-URL:https://zb-kamnik.si
X-WR-CALDESC:Dogodki za Združenje borcev NOB Kamnik
REFRESH-INTERVAL;VALUE=DURATION:PT1H
X-Robots-Tag:noindex
X-PUBLISHED-TTL:PT1H
BEGIN:VTIMEZONE
TZID:Europe/Ljubljana
BEGIN:DAYLIGHT
TZOFFSETFROM:+0100
TZOFFSETTO:+0200
TZNAME:CEST
DTSTART:20250330T010000
END:DAYLIGHT
BEGIN:STANDARD
TZOFFSETFROM:+0200
TZOFFSETTO:+0100
TZNAME:CET
DTSTART:20251026T010000
END:STANDARD
BEGIN:DAYLIGHT
TZOFFSETFROM:+0100
TZOFFSETTO:+0200
TZNAME:CEST
DTSTART:20260329T010000
END:DAYLIGHT
BEGIN:STANDARD
TZOFFSETFROM:+0200
TZOFFSETTO:+0100
TZNAME:CET
DTSTART:20261025T010000
END:STANDARD
BEGIN:DAYLIGHT
TZOFFSETFROM:+0100
TZOFFSETTO:+0200
TZNAME:CEST
DTSTART:20270328T010000
END:DAYLIGHT
BEGIN:STANDARD
TZOFFSETFROM:+0200
TZOFFSETTO:+0100
TZNAME:CET
DTSTART:20271031T010000
END:STANDARD
END:VTIMEZONE
BEGIN:VEVENT
DTSTART;TZID=Europe/Ljubljana:20260809T100000
DTEND;TZID=Europe/Ljubljana:20260809T110000
DTSTAMP:20260420T020800
CREATED:20260124T154135Z
LAST-MODIFIED:20260124T154356Z
UID:3353-1786269600-1786273200@zb-kamnik.si
SUMMARY:Slovesnost v spomin na ustanovitev Šlandrove brigade
DESCRIPTION:Vsakoletna spominska slovesnost v spomin na ustanovitev VI. slovenske narodnoosvobodilne udarne brigade “Slavka Šlandra” (pogosto imenovane Šlandrova brigada) na Šipku nad Blagovico je tradicionalna javna prireditev\, ki poteka vsako leto okrog 6.–11. avgusta v spomin na ustanovitev te brigade med narodnoosvobodilnim bojem v drugi svetovni vojni (6. avgusta 1943) in je del širšega ohranjanja spomina na odpor proti okupatorju. \nKaj je dogodek \n\nGre za spominsko slovesnost\, ki jo organizirajo združenja borcev za vrednote NOB (npr. ZB NOB Lukovica\, Kamnik in sosednje organizacije) ter veteranske in domoljubne organizacije.\nPoteka na Šipku nad Blagovico (v občini Lukovica).\nSlovesnosti se udeležujejo predstavniki lokalnih občin\, veterani\, praporščaki\, člani veteranskih in domoljubnih združenj ter zainteresirana javnost.\n\nZakaj se prireditev prireja \n\nSpomin na ustanovitev Šlandrove brigade: brigada je bila ustanovljena 6. avgusta 1943 iz treh bataljonov – Kamniškega\, Zasavskega in Savinjskega – s ciljem onemogočiti prometne zveze nemškim okupacijskim enotam v Tuhinjski dolini in širšem območju.\nPoudarjajo se pogum\, žrtve in vloga brigad v boju za osvoboditev\, pa tudi pomen spomina in poučevanja mlajših generacij o zgodovini.
URL:https://zb-kamnik.si/event/slovesnost-v-spomin-na-ustanovitev-slandrove-brigade-2/
LOCATION:Šipek nad Blagovico
CATEGORIES:dogodki 2026
END:VEVENT
END:VCALENDAR