BEGIN:VCALENDAR
VERSION:2.0
PRODID:-//Združenje borcev NOB Kamnik - ECPv6.15.20//NONSGML v1.0//EN
CALSCALE:GREGORIAN
METHOD:PUBLISH
X-WR-CALNAME:Združenje borcev NOB Kamnik
X-ORIGINAL-URL:https://zb-kamnik.si
X-WR-CALDESC:Dogodki za Združenje borcev NOB Kamnik
REFRESH-INTERVAL;VALUE=DURATION:PT1H
X-Robots-Tag:noindex
X-PUBLISHED-TTL:PT1H
BEGIN:VTIMEZONE
TZID:Europe/Ljubljana
BEGIN:DAYLIGHT
TZOFFSETFROM:+0100
TZOFFSETTO:+0200
TZNAME:CEST
DTSTART:20250330T010000
END:DAYLIGHT
BEGIN:STANDARD
TZOFFSETFROM:+0200
TZOFFSETTO:+0100
TZNAME:CET
DTSTART:20251026T010000
END:STANDARD
BEGIN:DAYLIGHT
TZOFFSETFROM:+0100
TZOFFSETTO:+0200
TZNAME:CEST
DTSTART:20260329T010000
END:DAYLIGHT
BEGIN:STANDARD
TZOFFSETFROM:+0200
TZOFFSETTO:+0100
TZNAME:CET
DTSTART:20261025T010000
END:STANDARD
BEGIN:DAYLIGHT
TZOFFSETFROM:+0100
TZOFFSETTO:+0200
TZNAME:CEST
DTSTART:20270328T010000
END:DAYLIGHT
BEGIN:STANDARD
TZOFFSETFROM:+0200
TZOFFSETTO:+0100
TZNAME:CET
DTSTART:20271031T010000
END:STANDARD
END:VTIMEZONE
BEGIN:VEVENT
DTSTART;TZID=Europe/Ljubljana:20260725T180000
DTEND;TZID=Europe/Ljubljana:20260725T190000
DTSTAMP:20260420T004359
CREATED:20260124T152439Z
LAST-MODIFIED:20260124T153143Z
UID:3350-1785002400-1785006000@zb-kamnik.si
SUMMARY:Srečanje pri Titanovi brvi
DESCRIPTION:Vsako leto tradicionalno srečanje ali spominska slovesnost pri Titanovi brvi v Kamniku poteka kot spominska prireditev v spomin na dogodke iz 27. julija 1941\, ko se je na Kamniškem začel oborožen upor proti okupatorju v času 2. svetovne vojne. \nNa ta dan se je na Kamniškem začel upor proti okupatorju\, kamniška skupina aktivistov pa je dobila nalogo\, da ponoči zažge vojaško skladišče goriva na Zapricah\, minira smodnišnico\, pretrga telefonske zveze s Kranjem\, blokira vse ceste\, ki vodijo v Kamnik\, poruši mostova prek Kamniške Bistrice na Perovem in uniči še nekatere druge objekte\, a akcija zaradi izdaje ni povsem uspela. Iz zasede sta bila ubita Dominik Miklavčič in Anton Mlakar\, ki veljata za prvi žrtvi 2. svetovne vojne na Kamniškem. \nOb spomeniku pri Titanovi brvi vsako leto poteka slovesnost\, kjer se udeleženci spominjajo teh zgodovinskih dogodkov in počastijo spomin na padla borca ter začetek odporniškega gibanja v Kamniku.
URL:https://zb-kamnik.si/event/srecanje-pri-titanovi-brvi/
LOCATION:Titanova brv na Perovem v Kamniku
CATEGORIES:dogodki 2026
END:VEVENT
END:VCALENDAR