BEGIN:VCALENDAR
VERSION:2.0
PRODID:-//Združenje borcev NOB Kamnik - ECPv6.15.20//NONSGML v1.0//EN
CALSCALE:GREGORIAN
METHOD:PUBLISH
X-WR-CALNAME:Združenje borcev NOB Kamnik
X-ORIGINAL-URL:https://zb-kamnik.si
X-WR-CALDESC:Dogodki za Združenje borcev NOB Kamnik
REFRESH-INTERVAL;VALUE=DURATION:PT1H
X-Robots-Tag:noindex
X-PUBLISHED-TTL:PT1H
BEGIN:VTIMEZONE
TZID:Europe/Ljubljana
BEGIN:DAYLIGHT
TZOFFSETFROM:+0100
TZOFFSETTO:+0200
TZNAME:CEST
DTSTART:20250330T010000
END:DAYLIGHT
BEGIN:STANDARD
TZOFFSETFROM:+0200
TZOFFSETTO:+0100
TZNAME:CET
DTSTART:20251026T010000
END:STANDARD
BEGIN:DAYLIGHT
TZOFFSETFROM:+0100
TZOFFSETTO:+0200
TZNAME:CEST
DTSTART:20260329T010000
END:DAYLIGHT
BEGIN:STANDARD
TZOFFSETFROM:+0200
TZOFFSETTO:+0100
TZNAME:CET
DTSTART:20261025T010000
END:STANDARD
BEGIN:DAYLIGHT
TZOFFSETFROM:+0100
TZOFFSETTO:+0200
TZNAME:CEST
DTSTART:20270328T010000
END:DAYLIGHT
BEGIN:STANDARD
TZOFFSETFROM:+0200
TZOFFSETTO:+0100
TZNAME:CET
DTSTART:20271031T010000
END:STANDARD
END:VTIMEZONE
BEGIN:VEVENT
DTSTART;TZID=Europe/Ljubljana:20260704T110000
DTEND;TZID=Europe/Ljubljana:20260704T120000
DTSTAMP:20260419T231208
CREATED:20260124T135652Z
LAST-MODIFIED:20260124T144939Z
UID:3341-1783162800-1783166400@zb-kamnik.si
SUMMARY:Slovesnost na Menini planini
DESCRIPTION:Spominska slovesnost na Menini planini v mesecu juliju se odvija v spomin na legendarni partizanski preboj iz obroča nemških sil v marcu 1945 – dogodek iz narodnoosvobodilne borbe (NOB)\, ki velja za enega najizjemnejših primerov poguma in vztrajnosti slovenskih partizanov proti okupatorju. \nKaj se je zgodilo na Menini planini (marec 1945) \n\nMarca 1945 so se partizanske enote – približno 500 borcev – znašle obkoljene na visokogorski planoti Menina planina s strani nemških enot (med njimi tudi enote SS).\nPartizani so po dveh neuspelih poskusih 13. in 14. marca 1945 izvedli preboj skozi sovražni obroč in si izborili pot do svobode. Med boji je bilo nekaj padlih in ranjenih\, vendar se je glavnina uspešno izvlekla iz obroča.\nVodja operacije je bil Franc Sever – Franta\, komandant operativnega štaba pripadnih brigad\, ki je s svojo strategijo pomagal rešiti mnogo borcev v izjemno težkih razmerah.\n\nPomen dogodka \nTa preboj je v slovenski zgodovini NOB simbol poguma\, enotnosti in boja za svobodo v zadnjih mesecih druge svetovne vojne. Slovesnosti ob obletnici (npr. 80. obletnica leta 2025) so priložnost za položitev vencev\, kulturni program in spomin na žrtve ter dosežke partizanskega odpora. \nČasovni potek bitke na Menini planini (marec 1945) \n\nZačetek marca 1945 – Partizanske enote 6. in 11. brigade ter dodatne enote skupaj približno 500 borcev (tudi enota VDV) se povzpnejo na Menino planino.\n\n\nOkupatorjeva  SS-divizija „Galizien“ jih hitro odkrije in obkoli z okoli 12.000 nemškimi vojaki v dolinah in na pristopih k planoti.\n marec 1945 – Partizani izvedejo prvi poskus preboja obroču\, a ga sovražnik zaustavi; spopadi so intenzivni\, orožje in mitraljezi grmijo po planoti.\n marec 1945 – Sledi drugi poskus preboja\, ki prav tako ne prinese takojšnje rešitve. Več borcev je ranjenih\, padlih in del partizanov ostane brez stika.\n\nUspešen končni preboj \n\nPo dveh neuspelih poskusih in nočnih manevrih partizani organizirajo tretji\, koordiniran preboj sovražnikove obroče.\nČez noč uspeta večina enot pobegniti mimo nemških zased in se umakniti proti varnejšim položajem.\nPo poročilih so padli približno 8 partizanov\, ranjenih okoli 29\, približno 20 pa pogrešanih; sovražnik pa je utrpel tudi izgube (približno 90 mrtvih\, okoli 100 ranjenih).\n\nVodstvo in duhovna podpora \n\nBitko je kot komandant operativnega štaba vodil Franc Sever – “Franta”\, zelo mlad vodja (komaj okoli 21–22 let)\, ki je uspel partizane organizirati in voditi skozi eno najtežjih preizkušenj NOB na tem področju.\nZnano je\, da so partizani v hudih trenutkih bojev tudi zapeli pesmi (Hej brigade\, Kovači smo)\, kar naj bi doseglo kratko prekinitev streljanja in okrepilo njihovo voljo.\n\nOzadje in pomen \n\nMenina planina je bila zaradi položaja in terena že prej kraj partizanskih aktivnosti\, oporišče in zbirališče. Okupator je to območje dolgo nadzoroval in pogosto ogrožal partizanske poti.\nTa bitka velja za simbol vztrajnosti\, junaštva in organiziranosti partizanskih enot\, ki so kljub izjemno neugodnim razmeram uspeli rešiti svojo glavnino.\n\nJulijske spominske slovesnosti na Menini planini večkrat obeležujejo spomin na preboj iz sovražnikovega obroča in počastijo vse tiste\, ki so sodelovali ali padli v bojih.
URL:https://zb-kamnik.si/event/slovesnost-na-menini-planini-3/
LOCATION:Menina planina
CATEGORIES:dogodki 2026
END:VEVENT
BEGIN:VEVENT
DTSTART;TZID=Europe/Ljubljana:20260710T170000
DTEND;TZID=Europe/Ljubljana:20260710T180000
DTSTAMP:20260419T231208
CREATED:20260124T150312Z
LAST-MODIFIED:20260124T150325Z
UID:3345-1783702800-1783706400@zb-kamnik.si
SUMMARY:Spominska svečanost v Gradišču
DESCRIPTION:julija 1942 je bila v vasi Gradišče nad Šmartnim v Tuhinjski dolini (Slovenija) ena izmed najbolj tragičnih in krvavih epizod druge svetovne vojne v tem območju. Dogodek je del širšega zgodovinskega konteksta narodnoosvobodilnega boja (NOB) in okupacije med letoma 1941 in 1945.\n\nKaj se je zgodilo \nNemške enote so 8. julija 1942 zgodaj zjutraj obkolile vas Gradišče v Tuhinjski dolini. Razlog za to kruto represijo je bila podpora vasi partizanskemu odporu – vaščani so pogosto priskočili na pomoč ranjenim partizanom\, jim nudili zavetje in oskrbo\, zato je bil kraj v okupatorskem pogledu označen kot problematičen. \nObkolitev in ločevanje vaščanov \n\nŽenske in otroke so poklicali\, naj se pripravijo na izselitev.\nMoške so ločili in pripeljali pred t. i. Koritnikovo hišo v Gradišču.\n\nBrutalna usmrtitev moških vaščanov \nNemški vojaki so obsodili na smrt najmanj osem moških prebivalcev vasi\, med njimi najmlajšega star komaj 16 let. Po sodbi so jih pognali v skedenj (senik)\, jih postrelili v noge\, nato pa skedenj skupaj z njimi zažgali. Istega dne so pri Homarju še ustrli štiri moške. \nPožig vasi in izseljevanje \nMedtem ko se je kolona žene in otrok premikala proti Šmartnemu v Tuhinju\, so Nemci vas požgali in izropali. Dolina in njeni prebivalci so utrpeli hude izgube in velik materialni škodo. \nČloveški in družbeni stroški \n\nV Gradišču so med vojno izgubili približno 23 življenj\, bodisi zaradi usmrtitev\, streljanja\, bojev ali smrti v taboriščih.\nV ostalih vaseh krajevne skupnosti Šmartno je število žrtev med vojno še višje (približno 60).\n\nOb 8. juliju v Gradišču lokalna skupnost obeležuje krajevni praznik in spominske slovesnosti\, kjer se spominjajo tragičnih dogodkov\, žrtev in gorja iz časa druge svetovne vojne. Ob tem pogosto poudarjajo tudi širši kontekst boja\, trpljenja in prispevka prebivalstva Tuhinjske doline v času NOB.
URL:https://zb-kamnik.si/event/spominska-svecanost-v-gradiscu-2/
LOCATION:Gradišče v Tuhinju\, Slovenija
CATEGORIES:dogodki 2026
END:VEVENT
BEGIN:VEVENT
DTSTART;TZID=Europe/Ljubljana:20260711T100000
DTEND;TZID=Europe/Ljubljana:20260711T110000
DTSTAMP:20260419T231208
CREATED:20260124T151850Z
LAST-MODIFIED:20260124T151914Z
UID:3347-1783764000-1783767600@zb-kamnik.si
SUMMARY:Spominska svečanost v Črni
DESCRIPTION:Vsako leto v mesecu juliju v Črni pri Kamniku poteka Spominska svečanost v spomin na ustreljene talce iz leta 1942 ter na 64 padlih borcev narodnoosvobodilnega boja na območju Velike planine. \nKateri dogodek se obeležuje \n\nV juliju se spominjajo ustrelitve talcev\, ki jih je 9. julija 1942 nemški okupator usmrtil v dolini Črne.\nSpominska slovesnost je namenjena počastitvi spomina na padle borce in ustreljene talce\, ki so del narodnoosvobodilnega boja proti okupatorju med drugo svetovno vojno.\nSpominska svečanost v Črni pri Kamniku ne obeležuje le ustreljenih talcev v dolini Črne (julij 1942)\, temveč je v širšem smislu posvečena tudi spominu na 64 padlih borcev NOB na Veliki planini.\n\nGre za enega najtežjih in najbolj krvavih dogodkov NOB na območju Kamniško-Savinjskih Alp\, ko so bile v letih 1942–1944 na območju Velike planine izvedene obsežne ofenzive nemškega okupatorja proti partizanskim enotam in njihovim postojankam. \nKljučna dejstva: \n\nVelika planina je bila pomembno partizansko zaledje (prehodi\, skrivališča\, zveze\, oskrba).\nOkupator je območje večkrat prečesaval z vojsko\, policijo in domobranskimi enotami.\nV teh spopadih\, zasedah in kasnejših usmrtitvah je padlo najmanj 64 partizanov.\nVelik del teh žrtev je pokopan ali simbolno počaščen prav v Črni\, kjer je tudi spominsko obeležje.\n\nZakaj ravno Črna pri Kamniku \nČrna ima v tem kontekstu osrednje spominsko mesto\, ker: \n\nzdružuje spomin na talce in\nspomin na padle borce z Velike planine\,\npredstavlja enoten simbol nacističnega nasilja in odpora na kamniškem območju.
URL:https://zb-kamnik.si/event/spominska-svecanost-v-crni/
LOCATION:Črna
CATEGORIES:dogodki 2026
END:VEVENT
BEGIN:VEVENT
DTSTART;TZID=Europe/Ljubljana:20260725T180000
DTEND;TZID=Europe/Ljubljana:20260725T190000
DTSTAMP:20260419T231208
CREATED:20260124T152439Z
LAST-MODIFIED:20260124T153143Z
UID:3350-1785002400-1785006000@zb-kamnik.si
SUMMARY:Srečanje pri Titanovi brvi
DESCRIPTION:Vsako leto tradicionalno srečanje ali spominska slovesnost pri Titanovi brvi v Kamniku poteka kot spominska prireditev v spomin na dogodke iz 27. julija 1941\, ko se je na Kamniškem začel oborožen upor proti okupatorju v času 2. svetovne vojne. \nNa ta dan se je na Kamniškem začel upor proti okupatorju\, kamniška skupina aktivistov pa je dobila nalogo\, da ponoči zažge vojaško skladišče goriva na Zapricah\, minira smodnišnico\, pretrga telefonske zveze s Kranjem\, blokira vse ceste\, ki vodijo v Kamnik\, poruši mostova prek Kamniške Bistrice na Perovem in uniči še nekatere druge objekte\, a akcija zaradi izdaje ni povsem uspela. Iz zasede sta bila ubita Dominik Miklavčič in Anton Mlakar\, ki veljata za prvi žrtvi 2. svetovne vojne na Kamniškem. \nOb spomeniku pri Titanovi brvi vsako leto poteka slovesnost\, kjer se udeleženci spominjajo teh zgodovinskih dogodkov in počastijo spomin na padla borca ter začetek odporniškega gibanja v Kamniku.
URL:https://zb-kamnik.si/event/srecanje-pri-titanovi-brvi/
LOCATION:Titanova brv na Perovem v Kamniku
CATEGORIES:dogodki 2026
END:VEVENT
END:VCALENDAR