BEGIN:VCALENDAR
VERSION:2.0
PRODID:-//Združenje borcev NOB Kamnik - ECPv6.15.20//NONSGML v1.0//EN
CALSCALE:GREGORIAN
METHOD:PUBLISH
X-WR-CALNAME:Združenje borcev NOB Kamnik
X-ORIGINAL-URL:https://zb-kamnik.si
X-WR-CALDESC:Dogodki za Združenje borcev NOB Kamnik
REFRESH-INTERVAL;VALUE=DURATION:PT1H
X-Robots-Tag:noindex
X-PUBLISHED-TTL:PT1H
BEGIN:VTIMEZONE
TZID:Europe/Ljubljana
BEGIN:DAYLIGHT
TZOFFSETFROM:+0100
TZOFFSETTO:+0200
TZNAME:CEST
DTSTART:20250330T010000
END:DAYLIGHT
BEGIN:STANDARD
TZOFFSETFROM:+0200
TZOFFSETTO:+0100
TZNAME:CET
DTSTART:20251026T010000
END:STANDARD
BEGIN:DAYLIGHT
TZOFFSETFROM:+0100
TZOFFSETTO:+0200
TZNAME:CEST
DTSTART:20260329T010000
END:DAYLIGHT
BEGIN:STANDARD
TZOFFSETFROM:+0200
TZOFFSETTO:+0100
TZNAME:CET
DTSTART:20261025T010000
END:STANDARD
BEGIN:DAYLIGHT
TZOFFSETFROM:+0100
TZOFFSETTO:+0200
TZNAME:CEST
DTSTART:20270328T010000
END:DAYLIGHT
BEGIN:STANDARD
TZOFFSETFROM:+0200
TZOFFSETTO:+0100
TZNAME:CET
DTSTART:20271031T010000
END:STANDARD
END:VTIMEZONE
BEGIN:VEVENT
DTSTART;TZID=Europe/Ljubljana:20260514T100000
DTEND;TZID=Europe/Ljubljana:20260514T110000
DTSTAMP:20260419T195307
CREATED:20260122T125240Z
LAST-MODIFIED:20260122T125644Z
UID:3327-1778752800-1778756400@zb-kamnik.si
SUMMARY:Slovesnost pri partizanski bolnici Tineta Zajca
DESCRIPTION:Partizanska bolnica dr. Tineta Zajca na Komendski Dobravi je bila ena izmed številnih skrivanih partizanskih bolnišnic v Sloveniji med drugo svetovno vojno\, ki so jih organizirali slovenski partizani kot del odpora proti nemškim in italijanskim okupatorjem. Delovala je v gozdnem predelu Komendske Dobrave (Občina Komenda) v Gorenjski regiji Slovenije in ni bila »uradna bolnišnica«\, ampak tajna bolnišnica\, skrita pred okupatorjem\, za oskrbo ranjencev in bolnikov\, povezanih z osvobodilnim gibanjem OF/NOB. \nUstanovitev in delovanje \n\nBolnico so postavili spomladi 1944 (v marcu–aprila 1944) in je začela delovati v začetku maja 1944.\nUrejena je bila kot več zemljank – skritih objektov v gozdu – z različnimi prostori za osebje in ranjence: velika zemljanka za ranjence\, ena za kuhinjo in skladišče\, ena za bolničarke in ena za zdravnika.\nKapaciteta je bila razmeroma majhna – prostor za približno 12–14 ranjencev.\nBolnica je oskrbovala predvsem ranjence partizanskega gibanja\, v glavnem pripadnike Gorenjskega odreda OF\, vendar tudi druge\, ki so potrebovali medicinsko pomoč.\n\nDr. Tine Zajc \n\nDr. Tine Zajc (1905–1944) je bil zdravnik in partizan\, ki je bolnico vodil in v njej zdravil ranjence ter sodeloval tudi v drugih partizanskih bolnišnicah na širšem območju.\nRojen je bil v Trzinu\, študiral medicino v Ljubljani\, na Dunaju\, v Gradcu in Zagrebu ter se specializiral tudi za porodništvo in zobozdravstvo.\nPo okupaciji je deloval pri zdravljenju ranjencev in sodeloval z osvobodilnim gibanjem ter se partizanom formalno pridružil marca 1944\, kmalu po tem pa prevzel vodenje komendske bolnišnice.\n\nTragični napad in uničenje \n\n11. junija 1944 so nemški policisti z bele gardo iz Cerkelj prišli do bolnišnice\, jo obkolili in začeli z močnim obstreljevanjem ter nato vdrli vanjo.\nV notranjosti so izvlekli ranjence in osebje ter se nad njimi brutalno izživljali – mučili in streljali ranjence ter bolničarke.\nDr. Zajca so prisilili\, da je moral gledati mučenje ranjencev\, sam pa je nato izgubil življenje (bil ustreljen in njegovo telo vrženo v ogenj).\nSkupno je bilo ubitih več partizanov in ranjencev ter medicinskega osebja\, kar označuje tragično usodo te bolnišnice zaradi izdaje ali razkritja njene lokacije.\n\nSpomin in dediščina \n\nNa mestu nekdanje bolnišnice se občasno prirejajo spominske slovesnosti za žrtve – zdravnika\, bolničarke in ranjence.\nDogodek in spomin na žrtve predstavlja del lokalne zgodovine in spomina na odpor proti okupatorju v času vojne.
URL:https://zb-kamnik.si/event/slovesnost-pri-partizanski-bolnici-tineta-zajca-3/
LOCATION:Komendska Dobrava
CATEGORIES:dogodki 2026
END:VEVENT
END:VCALENDAR