BEGIN:VCALENDAR
VERSION:2.0
PRODID:-//Združenje borcev NOB Kamnik - ECPv6.15.20//NONSGML v1.0//EN
CALSCALE:GREGORIAN
METHOD:PUBLISH
X-WR-CALNAME:Združenje borcev NOB Kamnik
X-ORIGINAL-URL:https://zb-kamnik.si
X-WR-CALDESC:Dogodki za Združenje borcev NOB Kamnik
REFRESH-INTERVAL;VALUE=DURATION:PT1H
X-Robots-Tag:noindex
X-PUBLISHED-TTL:PT1H
BEGIN:VTIMEZONE
TZID:Europe/Ljubljana
BEGIN:DAYLIGHT
TZOFFSETFROM:+0100
TZOFFSETTO:+0200
TZNAME:CEST
DTSTART:20250330T010000
END:DAYLIGHT
BEGIN:STANDARD
TZOFFSETFROM:+0200
TZOFFSETTO:+0100
TZNAME:CET
DTSTART:20251026T010000
END:STANDARD
BEGIN:DAYLIGHT
TZOFFSETFROM:+0100
TZOFFSETTO:+0200
TZNAME:CEST
DTSTART:20260329T010000
END:DAYLIGHT
BEGIN:STANDARD
TZOFFSETFROM:+0200
TZOFFSETTO:+0100
TZNAME:CET
DTSTART:20261025T010000
END:STANDARD
BEGIN:DAYLIGHT
TZOFFSETFROM:+0100
TZOFFSETTO:+0200
TZNAME:CEST
DTSTART:20270328T010000
END:DAYLIGHT
BEGIN:STANDARD
TZOFFSETFROM:+0200
TZOFFSETTO:+0100
TZNAME:CET
DTSTART:20271031T010000
END:STANDARD
END:VTIMEZONE
BEGIN:VEVENT
DTSTART;TZID=Europe/Ljubljana:20260321T110000
DTEND;TZID=Europe/Ljubljana:20260321T120000
DTSTAMP:20260419T195209
CREATED:20260122T121327Z
LAST-MODIFIED:20260122T121423Z
UID:3320-1774090800-1774094400@zb-kamnik.si
SUMMARY:Spominska slovesnost na Rakitovcu
DESCRIPTION:V času narodnoosvobodilne vojne 23. marca 1944 je bila na območju Malega in Velikega Rakitovca v Tuhinjski dolini težka preizkušnja\, ko so nemške okupatorske enote napadle partizane in vasema povzročile velike izgube. \nGlavni dogodki 23.3.1944\n\nPartizanske čete Šlandrove in Tomšičeve brigade so se tistega dne nahajale okoli Velikega in Malega Rakitovca – vasi v Tuhinjski dolini\, kjer so se ustavile zaradi počitka in okrepitve.\nNemške okupatorske sile so\, verjetno zaradi izdaje položajev partizanov\, izvedle napad na območje Rakitovca.\nMed bojem so Nemci požgali vsaj deset domačij v obeh vaseh in poskušali uničiti partizanske enote.\nPartizani so sicer napad odbili\, vendar so bile žrtve – padli borci\, med katerimi so bili tudi mladi partizani – in tudi velika materialna škoda v vaseh.\n\nSpomini po vojni\n\nPo koncu vojne je bilo nad vasjo Mali Rakitovec urejeno grobišče s kamnitim spomenikom\, kjer je pokopanih več neznanih partizanov\, ki so padli v spopadu 23.3.1944.\nGrobišče in spomenik sta spomenik padlim borcem NOB iz tistega boja ter opomin na njihovo žrtvovanje pri osvoboditvi Slovenije.
URL:https://zb-kamnik.si/event/spominska-slovesnost-na-rakitovcu-2/
LOCATION:Rakitovec
CATEGORIES:dogodki 2026
END:VEVENT
END:VCALENDAR