BEGIN:VCALENDAR
VERSION:2.0
PRODID:-//Združenje borcev NOB Kamnik - ECPv6.15.20//NONSGML v1.0//EN
CALSCALE:GREGORIAN
METHOD:PUBLISH
X-ORIGINAL-URL:https://zb-kamnik.si
X-WR-CALDESC:Dogodki za Združenje borcev NOB Kamnik
REFRESH-INTERVAL;VALUE=DURATION:PT1H
X-Robots-Tag:noindex
X-PUBLISHED-TTL:PT1H
BEGIN:VTIMEZONE
TZID:Europe/Ljubljana
BEGIN:DAYLIGHT
TZOFFSETFROM:+0100
TZOFFSETTO:+0200
TZNAME:CEST
DTSTART:20250330T010000
END:DAYLIGHT
BEGIN:STANDARD
TZOFFSETFROM:+0200
TZOFFSETTO:+0100
TZNAME:CET
DTSTART:20251026T010000
END:STANDARD
BEGIN:DAYLIGHT
TZOFFSETFROM:+0100
TZOFFSETTO:+0200
TZNAME:CEST
DTSTART:20260329T010000
END:DAYLIGHT
BEGIN:STANDARD
TZOFFSETFROM:+0200
TZOFFSETTO:+0100
TZNAME:CET
DTSTART:20261025T010000
END:STANDARD
BEGIN:DAYLIGHT
TZOFFSETFROM:+0100
TZOFFSETTO:+0200
TZNAME:CEST
DTSTART:20270328T010000
END:DAYLIGHT
BEGIN:STANDARD
TZOFFSETFROM:+0200
TZOFFSETTO:+0100
TZNAME:CET
DTSTART:20271031T010000
END:STANDARD
END:VTIMEZONE
BEGIN:VEVENT
DTSTART;TZID=Europe/Ljubljana:20260208T100000
DTEND;TZID=Europe/Ljubljana:20260208T110000
DTSTAMP:20260419T212505
CREATED:20260121T112612Z
LAST-MODIFIED:20260121T112756Z
UID:3316-1770544800-1770548400@zb-kamnik.si
SUMMARY:Slovesnost v spomin padlim borcem Šlandrove brigade
DESCRIPTION:Na Osekih pod vznožjem Menine planine je 8. februarja 1944 potekal hudi boj med ”zaledno enoto” Šlandrove partizanske brigade in okupatorskimi silami. Umrlo je okoli 30 borcev. Ta dogodek se spominja kot del težkih bojev in partizanskih prizadevanj za svobodo na širšem območju Tuhinjske doline in Menine planine. V omenjenih bojih so sodelovale Šlandrova brigada ter pripadniki drugih partizanskih enot\, ki so se premikale po območju med Gorenjsko\, Dolensko in Štajersko. Partizani so se pogosto zadrževali na planinskih planotah\, kjer so iskali zavetje in koordinirali svoje nadaljnje poteze.
URL:https://zb-kamnik.si/event/slovesnost-v-spomin-padlim-borcem-slandrove-brigade-2/
LOCATION:Oseke\, Oseke
CATEGORIES:dogodki 2026
END:VEVENT
END:VCALENDAR