BEGIN:VCALENDAR
VERSION:2.0
PRODID:-//Združenje borcev NOB Kamnik - ECPv6.15.20//NONSGML v1.0//EN
CALSCALE:GREGORIAN
METHOD:PUBLISH
X-WR-CALNAME:Združenje borcev NOB Kamnik
X-ORIGINAL-URL:https://zb-kamnik.si
X-WR-CALDESC:Dogodki za Združenje borcev NOB Kamnik
REFRESH-INTERVAL;VALUE=DURATION:PT1H
X-Robots-Tag:noindex
X-PUBLISHED-TTL:PT1H
BEGIN:VTIMEZONE
TZID:Europe/Ljubljana
BEGIN:DAYLIGHT
TZOFFSETFROM:+0100
TZOFFSETTO:+0200
TZNAME:CEST
DTSTART:20240331T010000
END:DAYLIGHT
BEGIN:STANDARD
TZOFFSETFROM:+0200
TZOFFSETTO:+0100
TZNAME:CET
DTSTART:20241027T010000
END:STANDARD
BEGIN:DAYLIGHT
TZOFFSETFROM:+0100
TZOFFSETTO:+0200
TZNAME:CEST
DTSTART:20250330T010000
END:DAYLIGHT
BEGIN:STANDARD
TZOFFSETFROM:+0200
TZOFFSETTO:+0100
TZNAME:CET
DTSTART:20251026T010000
END:STANDARD
BEGIN:DAYLIGHT
TZOFFSETFROM:+0100
TZOFFSETTO:+0200
TZNAME:CEST
DTSTART:20260329T010000
END:DAYLIGHT
BEGIN:STANDARD
TZOFFSETFROM:+0200
TZOFFSETTO:+0100
TZNAME:CET
DTSTART:20261025T010000
END:STANDARD
END:VTIMEZONE
BEGIN:VEVENT
DTSTART;TZID=Europe/Ljubljana:20250816T100000
DTEND;TZID=Europe/Ljubljana:20250816T110000
DTSTAMP:20260420T034244
CREATED:20250102T122242Z
LAST-MODIFIED:20250102T122242Z
UID:2941-1755338400-1755342000@zb-kamnik.si
SUMMARY:Slovesnost na Slopah nad Špitaličem
DESCRIPTION:Spominska slovesnost 12 padlim Koroškim borcem\, ki so padli na Menini planini
URL:https://zb-kamnik.si/event/slovesnost-na-slopah-nad-spitalicem/
LOCATION:Slope nad Špitaličem
CATEGORIES:dogodki 2025
END:VEVENT
END:VCALENDAR