BEGIN:VCALENDAR
VERSION:2.0
PRODID:-//Združenje borcev NOB Kamnik - ECPv6.15.20//NONSGML v1.0//EN
CALSCALE:GREGORIAN
METHOD:PUBLISH
X-ORIGINAL-URL:https://zb-kamnik.si
X-WR-CALDESC:Dogodki za Združenje borcev NOB Kamnik
REFRESH-INTERVAL;VALUE=DURATION:PT1H
X-Robots-Tag:noindex
X-PUBLISHED-TTL:PT1H
BEGIN:VTIMEZONE
TZID:Europe/Ljubljana
BEGIN:DAYLIGHT
TZOFFSETFROM:+0100
TZOFFSETTO:+0200
TZNAME:CEST
DTSTART:20240331T010000
END:DAYLIGHT
BEGIN:STANDARD
TZOFFSETFROM:+0200
TZOFFSETTO:+0100
TZNAME:CET
DTSTART:20241027T010000
END:STANDARD
BEGIN:DAYLIGHT
TZOFFSETFROM:+0100
TZOFFSETTO:+0200
TZNAME:CEST
DTSTART:20250330T010000
END:DAYLIGHT
BEGIN:STANDARD
TZOFFSETFROM:+0200
TZOFFSETTO:+0100
TZNAME:CET
DTSTART:20251026T010000
END:STANDARD
BEGIN:DAYLIGHT
TZOFFSETFROM:+0100
TZOFFSETTO:+0200
TZNAME:CEST
DTSTART:20260329T010000
END:DAYLIGHT
BEGIN:STANDARD
TZOFFSETFROM:+0200
TZOFFSETTO:+0100
TZNAME:CET
DTSTART:20261025T010000
END:STANDARD
END:VTIMEZONE
BEGIN:VEVENT
DTSTART;TZID=Europe/Ljubljana:20250711T180000
DTEND;TZID=Europe/Ljubljana:20250711T190000
DTSTAMP:20260424T121559
CREATED:20250102T121141Z
LAST-MODIFIED:20250102T121155Z
UID:2933-1752256800-1752260400@zb-kamnik.si
SUMMARY:Spominska svečanost v Gradišču
DESCRIPTION:Spominska svečanost v Gradišču-partizanska vas in važno oporišče Kamniškega bataljona\, Nemci so 8.7.1942 vas izropali in požgali 12 vaščanonov\, 55.vaščanov pa odgnali v taborišče
URL:https://zb-kamnik.si/event/spominska-svecanost-v-gradiscu/
LOCATION:Gradišče v Tuhinju\, Slovenija
CATEGORIES:dogodki 2025
END:VEVENT
END:VCALENDAR