BEGIN:VCALENDAR
VERSION:2.0
PRODID:-//Združenje borcev NOB Kamnik - ECPv6.15.20//NONSGML v1.0//EN
CALSCALE:GREGORIAN
METHOD:PUBLISH
X-WR-CALNAME:Združenje borcev NOB Kamnik
X-ORIGINAL-URL:https://zb-kamnik.si
X-WR-CALDESC:Dogodki za Združenje borcev NOB Kamnik
REFRESH-INTERVAL;VALUE=DURATION:PT1H
X-Robots-Tag:noindex
X-PUBLISHED-TTL:PT1H
BEGIN:VTIMEZONE
TZID:Europe/Ljubljana
BEGIN:DAYLIGHT
TZOFFSETFROM:+0100
TZOFFSETTO:+0200
TZNAME:CEST
DTSTART:20240331T010000
END:DAYLIGHT
BEGIN:STANDARD
TZOFFSETFROM:+0200
TZOFFSETTO:+0100
TZNAME:CET
DTSTART:20241027T010000
END:STANDARD
BEGIN:DAYLIGHT
TZOFFSETFROM:+0100
TZOFFSETTO:+0200
TZNAME:CEST
DTSTART:20250330T010000
END:DAYLIGHT
BEGIN:STANDARD
TZOFFSETFROM:+0200
TZOFFSETTO:+0100
TZNAME:CET
DTSTART:20251026T010000
END:STANDARD
BEGIN:DAYLIGHT
TZOFFSETFROM:+0100
TZOFFSETTO:+0200
TZNAME:CEST
DTSTART:20260329T010000
END:DAYLIGHT
BEGIN:STANDARD
TZOFFSETFROM:+0200
TZOFFSETTO:+0100
TZNAME:CET
DTSTART:20261025T010000
END:STANDARD
END:VTIMEZONE
BEGIN:VEVENT
DTSTART;TZID=Europe/Ljubljana:20250608T100000
DTEND;TZID=Europe/Ljubljana:20250608T110000
DTSTAMP:20260420T064340
CREATED:20250102T120204Z
LAST-MODIFIED:20250102T120204Z
UID:2926-1749376800-1749380400@zb-kamnik.si
SUMMARY:Svečanost v Češnjicah v Zg. Tuhinju
DESCRIPTION:Svečanost v spomin dr. Petru Držaju\, kapetanu C. Fischerju dvema Ameriškima in dvema Britanskima častnikoma
URL:https://zb-kamnik.si/event/svecanost-v-cesnjicah-v-zg-tuhinju/
LOCATION:Češnjice v Tuhinjski dolini
CATEGORIES:dogodki 2025
END:VEVENT
END:VCALENDAR