BEGIN:VCALENDAR
VERSION:2.0
PRODID:-//Združenje borcev NOB Kamnik - ECPv6.15.20//NONSGML v1.0//EN
CALSCALE:GREGORIAN
METHOD:PUBLISH
X-WR-CALNAME:Združenje borcev NOB Kamnik
X-ORIGINAL-URL:https://zb-kamnik.si
X-WR-CALDESC:Dogodki za Združenje borcev NOB Kamnik
REFRESH-INTERVAL;VALUE=DURATION:PT1H
X-Robots-Tag:noindex
X-PUBLISHED-TTL:PT1H
BEGIN:VTIMEZONE
TZID:Europe/Ljubljana
BEGIN:DAYLIGHT
TZOFFSETFROM:+0100
TZOFFSETTO:+0200
TZNAME:CEST
DTSTART:20240331T010000
END:DAYLIGHT
BEGIN:STANDARD
TZOFFSETFROM:+0200
TZOFFSETTO:+0100
TZNAME:CET
DTSTART:20241027T010000
END:STANDARD
BEGIN:DAYLIGHT
TZOFFSETFROM:+0100
TZOFFSETTO:+0200
TZNAME:CEST
DTSTART:20250330T010000
END:DAYLIGHT
BEGIN:STANDARD
TZOFFSETFROM:+0200
TZOFFSETTO:+0100
TZNAME:CET
DTSTART:20251026T010000
END:STANDARD
BEGIN:DAYLIGHT
TZOFFSETFROM:+0100
TZOFFSETTO:+0200
TZNAME:CEST
DTSTART:20260329T010000
END:DAYLIGHT
BEGIN:STANDARD
TZOFFSETFROM:+0200
TZOFFSETTO:+0100
TZNAME:CET
DTSTART:20261025T010000
END:STANDARD
END:VTIMEZONE
BEGIN:VEVENT
DTSTART;TZID=Europe/Ljubljana:20250508T180000
DTEND;TZID=Europe/Ljubljana:20250508T190000
DTSTAMP:20260420T082134
CREATED:20250508T114401Z
LAST-MODIFIED:20250508T114401Z
UID:3102-1746727200-1746730800@zb-kamnik.si
SUMMARY:Svečana prireditev v počastitev 80. letnice konca 2. svetovne vojne
DESCRIPTION:V duhu spomina in ponosa na osvoboditev domovine vas vabimo\, da se nam pridružite ob simbolih narodnoosvobodilnega boja – rdeči zvezdi\, zastavi svobode in pogumu partizanov\, ki so tlakovali pot v mir in prihodnost. \nPrireditev bo spremljal slavnostni govor ministra MNZ RS g. Boštjana Poklukarja\, nagovor župana Občine Kamnik g. Matej Slaparja in predsednika ZB NOB Kamnik Igor Kanižarja\, kulturni program in pietetni spomin na padle borce.
URL:https://zb-kamnik.si/event/svecana-prireditev-v-pocastitev-80-letnice-konca-2-svetovne-vojne/
LOCATION:Dom kulture Kamnik
CATEGORIES:dogodki 2025
END:VEVENT
END:VCALENDAR